BEGIN:VCALENDAR
VERSION:2.0
PRODID:GIGPRESS 2.0 WORDPRESS PLUGIN
CALSCALE:GREGORIAN
X-WR-TIMEZONE:Etc/GMT
METHOD:PUBLISH
BEGIN:VTIMEZONE
TZID:GMT
BEGIN:STANDARD
DTSTART:20071028T010000
TZOFFSETTO:+0000
TZOFFSETFROM:+0000
END:STANDARD
END:VTIMEZONE
BEGIN:VEVENT
SUMMARY:Gigi Love at Devils Tower National Monument
DESCRIPTION:Notes: Come on up to America's first National Monument and feel the power of the tower and the ancient energy of prayer and gratitude that permeates this land. I have a special song and music video for this monument-Mato Tipila\, Bears Lodge is the name of the video and the true name of this sacred native american site. All Ages
LOCATION:Devils Tower National Monument\, Devils Tower National Monument Rd\, Devils Tower\, US
UID:20260613T113000Z-190-lovecha68@gmail.com
URL:https://gigilove.com/calendar
DTSTART;VALUE=DATE-TIME;TZID=GMT:20260613T113000Z
DTEND;VALUE=DATE-TIME;TZID=GMT:20260614T113000Z
DTSTAMP:20260423T053515Z
END:VEVENT
END:VCALENDAR